Package: gatom Version: 1.6.0 Command: /Library/Frameworks/R.framework/Resources/bin/R CMD build --keep-empty-dirs --no-resave-data gatom StartedAt: 2025-10-14 00:42:36 -0400 (Tue, 14 Oct 2025) EndedAt: 2025-10-14 00:48:23 -0400 (Tue, 14 Oct 2025) EllapsedTime: 346.5 seconds RetCode: 0 Status: OK PackageFile: gatom_1.6.0.tar.gz PackageFileSize: 1.609 MiB