Package: gINTomics Version: 1.4.1 Command: /home/biocbuild/R/R/bin/R CMD INSTALL gINTomics StartedAt: 2025-10-13 21:11:04 -0000 (Mon, 13 Oct 2025) EndedAt: 2025-10-13 21:13:00 -0000 (Mon, 13 Oct 2025) EllapsedTime: 115.9 seconds RetCode: 0 Status: OK