Package: gINTomics Version: 1.4.1 Command: /home/biocbuild/R/R/bin/R CMD build --keep-empty-dirs --no-resave-data gINTomics StartedAt: 2025-10-14 01:15:21 -0000 (Tue, 14 Oct 2025) EndedAt: 2025-10-14 01:20:29 -0000 (Tue, 14 Oct 2025) EllapsedTime: 308.1 seconds RetCode: 0 Status: OK PackageFile: gINTomics_1.4.1.tar.gz PackageFileSize: 3.567 MiB