Package: gINTomics Version: 1.4.1 Command: /Library/Frameworks/R.framework/Resources/bin/R CMD INSTALL gINTomics StartedAt: 2025-10-13 17:55:07 -0400 (Mon, 13 Oct 2025) EndedAt: 2025-10-13 17:56:48 -0400 (Mon, 13 Oct 2025) EllapsedTime: 100.3 seconds RetCode: 0 Status: OK