Package: gINTomics Version: 1.4.1 Command: /Library/Frameworks/R.framework/Resources/bin/R CMD build --keep-empty-dirs --no-resave-data gINTomics StartedAt: 2025-10-14 01:15:04 -0400 (Tue, 14 Oct 2025) EndedAt: 2025-10-14 01:18:20 -0400 (Tue, 14 Oct 2025) EllapsedTime: 196.6 seconds RetCode: 0 Status: OK PackageFile: gINTomics_1.4.1.tar.gz PackageFileSize: 3.504 MiB