Package: gINTomics Version: 1.4.1 Command: rm -rf gINTomics.buildbin-libdir && mkdir gINTomics.buildbin-libdir && /Users/biocbuild/BBS/utils/build-universal.sh gINTomics_1.4.1.tar.gz /Library/Frameworks/R.framework/Resources/bin/R gINTomics.buildbin-libdir StartedAt: 2025-10-15 18:43:32 -0400 (Wed, 15 Oct 2025) EndedAt: 2025-10-15 18:45:26 -0400 (Wed, 15 Oct 2025) EllapsedTime: 114.3 seconds RetCode: 0 Status: OK PackageFile: gINTomics_1.4.1.tgz PackageFileSize: 3.787 MiB