Package: gDRutils Version: 1.6.0 Command: /home/biocbuild/bbs-3.21-bioc/R/bin/R CMD INSTALL gDRutils StartedAt: 2025-10-15 15:36:59 -0400 (Wed, 15 Oct 2025) EndedAt: 2025-10-15 15:37:21 -0400 (Wed, 15 Oct 2025) EllapsedTime: 22.4 seconds RetCode: 0 Status: OK