Package: gDRutils Version: 1.6.0 Command: /Library/Frameworks/R.framework/Resources/bin/R CMD INSTALL gDRutils StartedAt: 2025-10-13 17:10:30 -0400 (Mon, 13 Oct 2025) EndedAt: 2025-10-13 17:10:56 -0400 (Mon, 13 Oct 2025) EllapsedTime: 26.4 seconds RetCode: 0 Status: OK