Package: gDRutils Version: 1.6.0 Command: /Library/Frameworks/R.framework/Resources/bin/R CMD build --keep-empty-dirs --no-resave-data gDRutils StartedAt: 2025-10-14 00:49:22 -0400 (Tue, 14 Oct 2025) EndedAt: 2025-10-14 00:50:06 -0400 (Tue, 14 Oct 2025) EllapsedTime: 44.5 seconds RetCode: 0 Status: OK PackageFile: gDRutils_1.6.0.tar.gz PackageFileSize: 334.7 KiB