Package: gDNAx Version: 1.6.1 Command: /home/biocbuild/R/R/bin/R CMD INSTALL gDNAx StartedAt: 2025-10-13 21:13:50 -0000 (Mon, 13 Oct 2025) EndedAt: 2025-10-13 21:14:53 -0000 (Mon, 13 Oct 2025) EllapsedTime: 62.5 seconds RetCode: 0 Status: OK