Package: gDNAx Version: 1.6.1 Command: /home/biocbuild/R/R/bin/R CMD build --keep-empty-dirs --no-resave-data gDNAx StartedAt: 2025-10-14 01:00:48 -0000 (Tue, 14 Oct 2025) EndedAt: 2025-10-14 01:05:56 -0000 (Tue, 14 Oct 2025) EllapsedTime: 308.1 seconds RetCode: 0 Status: OK PackageFile: gDNAx_1.6.1.tar.gz PackageFileSize: 779.9 KiB