Package: gCrisprTools Version: 2.14.0 Command: rm -rf gCrisprTools.buildbin-libdir && mkdir gCrisprTools.buildbin-libdir && /Users/biocbuild/BBS/utils/build-universal.sh gCrisprTools_2.14.0.tar.gz /Library/Frameworks/R.framework/Resources/bin/R gCrisprTools.buildbin-libdir StartedAt: 2025-10-15 18:35:03 -0400 (Wed, 15 Oct 2025) EndedAt: 2025-10-15 18:35:40 -0400 (Wed, 15 Oct 2025) EllapsedTime: 37.0 seconds RetCode: 0 Status: OK PackageFile: gCrisprTools_2.14.0.tgz PackageFileSize: 4.964 MiB