Package: fobitools Version: 1.16.0 Command: /home/biocbuild/R/R/bin/R CMD INSTALL fobitools StartedAt: 2025-10-13 20:21:27 -0000 (Mon, 13 Oct 2025) EndedAt: 2025-10-13 20:21:47 -0000 (Mon, 13 Oct 2025) EllapsedTime: 19.5 seconds RetCode: 0 Status: OK