Package: flowWorkspace Version: 4.20.0 Command: /home/biocbuild/bbs-3.21-bioc/R/bin/R CMD build --keep-empty-dirs --no-resave-data flowWorkspace StartedAt: 2025-10-15 17:33:28 -0400 (Wed, 15 Oct 2025) EndedAt: 2025-10-15 17:36:09 -0400 (Wed, 15 Oct 2025) EllapsedTime: 161.2 seconds RetCode: 0 Status: OK PackageFile: flowWorkspace_4.20.0.tar.gz PackageFileSize: 5.081 MiB