Package: flowWorkspace Version: 4.20.0 Command: /Library/Frameworks/R.framework/Resources/bin/R CMD INSTALL flowWorkspace StartedAt: 2025-10-13 15:29:48 -0400 (Mon, 13 Oct 2025) EndedAt: 2025-10-13 15:34:07 -0400 (Mon, 13 Oct 2025) EllapsedTime: 259.1 seconds RetCode: 0 Status: OK