Package: flowWorkspace Version: 4.20.0 Command: /home/biocbuild/R/R/bin/R CMD INSTALL flowWorkspace StartedAt: 2025-10-13 20:28:40 -0000 (Mon, 13 Oct 2025) EndedAt: 2025-10-13 20:32:02 -0000 (Mon, 13 Oct 2025) EllapsedTime: 201.9 seconds RetCode: 0 Status: OK