Package: flowWorkspace Version: 4.20.0 Command: /home/biocbuild/R/R/bin/R CMD check --install=check:flowWorkspace.install-out.txt --library=/home/biocbuild/R/R/site-library --no-vignettes --timings flowWorkspace_4.20.0.tar.gz StartedAt: 2025-10-14 09:15:13 -0000 (Tue, 14 Oct 2025) EndedAt: 2025-10-14 09:19:19 -0000 (Tue, 14 Oct 2025) EllapsedTime: 246.2 seconds RetCode: 0 Status: WARNINGS CheckDir: flowWorkspace.Rcheck Warnings: 5