Package: flowWorkspace Version: 4.20.0 Command: /Library/Frameworks/R.framework/Resources/bin/R CMD INSTALL flowWorkspace StartedAt: 2025-10-13 15:43:18 -0400 (Mon, 13 Oct 2025) EndedAt: 2025-10-13 15:45:14 -0400 (Mon, 13 Oct 2025) EllapsedTime: 116.5 seconds RetCode: 0 Status: OK