Package: flowWorkspace Version: 4.20.0 Command: /Library/Frameworks/R.framework/Resources/bin/R CMD build --keep-empty-dirs --no-resave-data flowWorkspace StartedAt: 2025-10-14 00:34:52 -0400 (Tue, 14 Oct 2025) EndedAt: 2025-10-14 00:37:34 -0400 (Tue, 14 Oct 2025) EllapsedTime: 162.3 seconds RetCode: 0 Status: OK PackageFile: flowWorkspace_4.20.0.tar.gz PackageFileSize: 5.705 MiB