Package: flowWorkspace Version: 4.20.0 Command: rm -rf flowWorkspace.buildbin-libdir && mkdir flowWorkspace.buildbin-libdir && /Users/biocbuild/BBS/utils/build-universal.sh flowWorkspace_4.20.0.tar.gz /Library/Frameworks/R.framework/Resources/bin/R flowWorkspace.buildbin-libdir StartedAt: 2025-10-15 18:32:40 -0400 (Wed, 15 Oct 2025) EndedAt: 2025-10-15 18:34:49 -0400 (Wed, 15 Oct 2025) EllapsedTime: 129.0 seconds RetCode: 0 Status: OK PackageFile: flowWorkspace_4.20.0.tgz PackageFileSize: 5.838 MiB