Package: flowViz Version: 1.72.0 Command: /home/biocbuild/bbs-3.21-bioc/R/bin/R CMD INSTALL flowViz StartedAt: 2025-10-15 15:13:04 -0400 (Wed, 15 Oct 2025) EndedAt: 2025-10-15 15:13:16 -0400 (Wed, 15 Oct 2025) EllapsedTime: 11.3 seconds RetCode: 0 Status: OK