Package: flowViz Version: 1.72.0 Command: /home/biocbuild/bbs-3.21-bioc/R/bin/R CMD build --keep-empty-dirs --no-resave-data flowViz StartedAt: 2025-10-15 17:33:27 -0400 (Wed, 15 Oct 2025) EndedAt: 2025-10-15 17:34:40 -0400 (Wed, 15 Oct 2025) EllapsedTime: 73.1 seconds RetCode: 0 Status: OK PackageFile: flowViz_1.72.0.tar.gz PackageFileSize: 989.7 KiB