Package: flowTrans Version: 1.60.0 Command: /home/biocbuild/R/R/bin/R CMD build --keep-empty-dirs --no-resave-data flowTrans StartedAt: 2025-10-14 00:56:44 -0000 (Tue, 14 Oct 2025) EndedAt: 2025-10-14 00:57:14 -0000 (Tue, 14 Oct 2025) EllapsedTime: 30.0 seconds RetCode: 0 Status: OK PackageFile: flowTrans_1.60.0.tar.gz PackageFileSize: 474.8 KiB