Package: flowTime Version: 1.32.0 Command: /home/biocbuild/R/R/bin/R CMD INSTALL flowTime StartedAt: 2025-10-13 20:25:41 -0000 (Mon, 13 Oct 2025) EndedAt: 2025-10-13 20:25:51 -0000 (Mon, 13 Oct 2025) EllapsedTime: 10.7 seconds RetCode: 0 Status: OK