Package: flowStats Version: 4.20.0 Command: /home/biocbuild/R/R/bin/R CMD build --keep-empty-dirs --no-resave-data flowStats StartedAt: 2025-10-14 00:56:23 -0000 (Tue, 14 Oct 2025) EndedAt: 2025-10-14 00:58:56 -0000 (Tue, 14 Oct 2025) EllapsedTime: 152.1 seconds RetCode: 0 Status: OK PackageFile: flowStats_4.20.0.tar.gz PackageFileSize: 10.96 MiB