Package: flowMerge Version: 2.56.0 Command: /home/biocbuild/bbs-3.21-bioc/R/bin/R CMD build --keep-empty-dirs --no-resave-data flowMerge StartedAt: 2025-10-15 17:32:49 -0400 (Wed, 15 Oct 2025) EndedAt: 2025-10-15 17:33:28 -0400 (Wed, 15 Oct 2025) EllapsedTime: 39.1 seconds RetCode: 0 Status: OK PackageFile: flowMerge_2.56.0.tar.gz PackageFileSize: 596.5 KiB