Package: flowMerge Version: 2.56.0 Command: /Library/Frameworks/R.framework/Resources/bin/R CMD build --keep-empty-dirs --no-resave-data flowMerge StartedAt: 2025-10-14 00:31:57 -0400 (Tue, 14 Oct 2025) EndedAt: 2025-10-14 00:32:50 -0400 (Tue, 14 Oct 2025) EllapsedTime: 53.1 seconds RetCode: 0 Status: OK PackageFile: flowMerge_2.56.0.tar.gz PackageFileSize: 630.9 KiB