Package: flowGraph Version: 1.16.0 Command: /home/biocbuild/bbs-3.21-bioc/R/bin/R CMD INSTALL flowGraph StartedAt: 2025-10-15 15:09:47 -0400 (Wed, 15 Oct 2025) EndedAt: 2025-10-15 15:10:12 -0400 (Wed, 15 Oct 2025) EllapsedTime: 25.0 seconds RetCode: 0 Status: OK