Package: flowGraph Version: 1.16.0 Command: /Library/Frameworks/R.framework/Resources/bin/R CMD build --keep-empty-dirs --no-resave-data flowGraph StartedAt: 2025-10-14 00:31:09 -0400 (Tue, 14 Oct 2025) EndedAt: 2025-10-14 00:31:58 -0400 (Tue, 14 Oct 2025) EllapsedTime: 49.5 seconds RetCode: 0 Status: OK PackageFile: flowGraph_1.16.0.tar.gz PackageFileSize: 2.223 MiB