Package: flowGate Version: 1.8.0 Command: /home/biocbuild/R/R/bin/R CMD INSTALL flowGate StartedAt: 2025-10-13 20:48:50 -0000 (Mon, 13 Oct 2025) EndedAt: 2025-10-13 20:49:11 -0000 (Mon, 13 Oct 2025) EllapsedTime: 21.8 seconds RetCode: 0 Status: OK