Package: flowGate Version: 1.8.0 Command: /home/biocbuild/R/R/bin/R CMD build --keep-empty-dirs --no-resave-data flowGate StartedAt: 2025-10-14 00:55:09 -0000 (Tue, 14 Oct 2025) EndedAt: 2025-10-14 00:55:52 -0000 (Tue, 14 Oct 2025) EllapsedTime: 43.0 seconds RetCode: 0 Status: OK PackageFile: flowGate_1.8.0.tar.gz PackageFileSize: 2.083 MiB