Package: flowFP Version: 1.66.0 Command: /home/biocbuild/R/R/bin/R CMD INSTALL flowFP StartedAt: 2025-10-13 20:26:07 -0000 (Mon, 13 Oct 2025) EndedAt: 2025-10-13 20:26:24 -0000 (Mon, 13 Oct 2025) EllapsedTime: 17.0 seconds RetCode: 0 Status: OK