Package: flowFP Version: 1.66.0 Command: /Library/Frameworks/R.framework/Resources/bin/R CMD INSTALL flowFP StartedAt: 2025-10-13 15:37:59 -0400 (Mon, 13 Oct 2025) EndedAt: 2025-10-13 15:38:16 -0400 (Mon, 13 Oct 2025) EllapsedTime: 17.3 seconds RetCode: 0 Status: OK