Package: flowFP Version: 1.66.0 Maintainer: Herb Holyst , Wade Rogers MaintainerEmail: wade.rogers at spcytomics.com git_url: https://git.bioconductor.org/packages/flowFP git_branch: RELEASE_3_21 git_last_commit: 5cf0089 git_last_commit_date: 2025-04-15 09:45:10 -0400 (Tue, 15 Apr 2025)