Package: flowDensity Version: 1.42.0 Command: /home/biocbuild/R/R/bin/R CMD INSTALL flowDensity StartedAt: 2025-10-13 20:26:07 -0000 (Mon, 13 Oct 2025) EndedAt: 2025-10-13 20:26:20 -0000 (Mon, 13 Oct 2025) EllapsedTime: 13.6 seconds RetCode: 0 Status: OK