Package: flowDensity Version: 1.42.0 Command: /Library/Frameworks/R.framework/Resources/bin/R CMD build --keep-empty-dirs --no-resave-data flowDensity StartedAt: 2025-10-14 00:30:31 -0400 (Tue, 14 Oct 2025) EndedAt: 2025-10-14 00:30:33 -0400 (Tue, 14 Oct 2025) EllapsedTime: 2.3 seconds RetCode: 0 Status: OK PackageFile: flowDensity_1.42.0.tar.gz PackageFileSize: 4.295 MiB