Package: flowCore Version: 2.20.0 Command: /Library/Frameworks/R.framework/Resources/bin/R CMD INSTALL flowCore StartedAt: 2025-10-13 15:23:07 -0400 (Mon, 13 Oct 2025) EndedAt: 2025-10-13 15:24:53 -0400 (Mon, 13 Oct 2025) EllapsedTime: 105.9 seconds RetCode: 0 Status: OK