Package: flowCore Version: 2.20.0 Command: /Library/Frameworks/R.framework/Resources/bin/R CMD build --keep-empty-dirs --no-resave-data flowCore StartedAt: 2025-10-13 19:06:03 -0400 (Mon, 13 Oct 2025) EndedAt: 2025-10-13 19:09:04 -0400 (Mon, 13 Oct 2025) EllapsedTime: 180.4 seconds RetCode: 0 Status: OK PackageFile: flowCore_2.20.0.tar.gz PackageFileSize: 7.449 MiB