Package: flowCore Version: 2.20.0 Command: rm -rf flowCore.buildbin-libdir && mkdir flowCore.buildbin-libdir && /Users/biocbuild/BBS/utils/build-universal.sh flowCore_2.20.0.tar.gz /Library/Frameworks/R.framework/Resources/bin/R flowCore.buildbin-libdir StartedAt: 2025-10-14 13:27:47 -0400 (Tue, 14 Oct 2025) EndedAt: 2025-10-14 13:30:28 -0400 (Tue, 14 Oct 2025) EllapsedTime: 161.0 seconds RetCode: 0 Status: OK PackageFile: flowCore_2.20.0.tgz PackageFileSize: 8.178 MiB