Package: flowCore Version: 2.20.0 Command: /home/biocbuild/R/R/bin/R CMD build --keep-empty-dirs --no-resave-data flowCore StartedAt: 2025-10-14 00:54:18 -0000 (Tue, 14 Oct 2025) EndedAt: 2025-10-14 00:56:09 -0000 (Tue, 14 Oct 2025) EllapsedTime: 111.0 seconds RetCode: 0 Status: OK PackageFile: flowCore_2.20.0.tar.gz PackageFileSize: 7.443 MiB