Package: flowCore Version: 2.20.0 Command: /Library/Frameworks/R.framework/Resources/bin/R CMD build --keep-empty-dirs --no-resave-data flowCore StartedAt: 2025-10-14 00:29:32 -0400 (Tue, 14 Oct 2025) EndedAt: 2025-10-14 00:31:09 -0400 (Tue, 14 Oct 2025) EllapsedTime: 97.0 seconds RetCode: 0 Status: OK PackageFile: flowCore_2.20.0.tar.gz PackageFileSize: 7.451 MiB