Package: flowClust Version: 3.46.0 Command: /home/biocbuild/bbs-3.21-bioc/R/bin/R CMD INSTALL flowClust StartedAt: 2025-10-15 15:14:07 -0400 (Wed, 15 Oct 2025) EndedAt: 2025-10-15 15:15:46 -0400 (Wed, 15 Oct 2025) EllapsedTime: 99.4 seconds RetCode: 0 Status: OK