Package: flowClust Version: 3.46.0 Command: rm -rf flowClust.buildbin-libdir && mkdir flowClust.buildbin-libdir && /Users/biocbuild/BBS/utils/build-universal.sh flowClust_3.46.0.tar.gz /Library/Frameworks/R.framework/Resources/bin/R flowClust.buildbin-libdir StartedAt: 2025-04-22 00:45:43 -0400 (Tue, 22 Apr 2025) EndedAt: 2025-04-22 00:50:18 -0400 (Tue, 22 Apr 2025) EllapsedTime: 275.7 seconds RetCode: 0 Status: OK PackageFile: flowClust_3.46.0.tgz PackageFileSize: 1.538 MiB