Package: flowClust Version: 3.46.0 Command: rm -rf flowClust.buildbin-libdir && mkdir flowClust.buildbin-libdir && /Users/biocbuild/BBS/utils/build-universal.sh flowClust_3.46.0.tar.gz /Library/Frameworks/R.framework/Resources/bin/R flowClust.buildbin-libdir StartedAt: 2025-10-15 18:31:02 -0400 (Wed, 15 Oct 2025) EndedAt: 2025-10-15 18:34:04 -0400 (Wed, 15 Oct 2025) EllapsedTime: 182.1 seconds RetCode: 0 Status: OK PackageFile: flowClust_3.46.0.tgz PackageFileSize: 1.362 MiB