Package: flowClean Version: 1.46.0 Command: /home/biocbuild/R/R/bin/R CMD build --keep-empty-dirs --no-resave-data flowClean StartedAt: 2025-10-14 00:54:02 -0000 (Tue, 14 Oct 2025) EndedAt: 2025-10-14 00:54:40 -0000 (Tue, 14 Oct 2025) EllapsedTime: 38.0 seconds RetCode: 0 Status: OK PackageFile: flowClean_1.46.0.tar.gz PackageFileSize: 4.7 MiB