Package: flowBin Version: 1.44.0 Command: /Library/Frameworks/R.framework/Resources/bin/R CMD INSTALL flowBin StartedAt: 2025-10-13 15:38:17 -0400 (Mon, 13 Oct 2025) EndedAt: 2025-10-13 15:38:29 -0400 (Mon, 13 Oct 2025) EllapsedTime: 12.2 seconds RetCode: 0 Status: OK