Package: flowBin Version: 1.44.0 Command: rm -rf flowBin.buildbin-libdir && mkdir flowBin.buildbin-libdir && /Users/biocbuild/BBS/utils/build-universal.sh flowBin_1.44.0.tar.gz /Library/Frameworks/R.framework/Resources/bin/R flowBin.buildbin-libdir StartedAt: 2025-10-15 18:30:49 -0400 (Wed, 15 Oct 2025) EndedAt: 2025-10-15 18:31:02 -0400 (Wed, 15 Oct 2025) EllapsedTime: 13.6 seconds RetCode: 0 Status: OK PackageFile: flowBin_1.44.0.tgz PackageFileSize: 840.6 KiB