Package: flowAI Version: 1.38.0 Command: rm -rf flowAI.buildbin-libdir && mkdir flowAI.buildbin-libdir && /Users/biocbuild/BBS/utils/build-universal.sh flowAI_1.38.0.tar.gz /Library/Frameworks/R.framework/Resources/bin/R flowAI.buildbin-libdir StartedAt: 2025-10-14 13:27:21 -0400 (Tue, 14 Oct 2025) EndedAt: 2025-10-14 13:28:02 -0400 (Tue, 14 Oct 2025) EllapsedTime: 40.8 seconds RetCode: 0 Status: OK PackageFile: flowAI_1.38.0.tgz PackageFileSize: 3.691 MiB