Package: flowAI Version: 1.38.0 Command: /Library/Frameworks/R.framework/Resources/bin/R CMD INSTALL flowAI StartedAt: 2025-10-13 15:37:39 -0400 (Mon, 13 Oct 2025) EndedAt: 2025-10-13 15:37:51 -0400 (Mon, 13 Oct 2025) EllapsedTime: 11.7 seconds RetCode: 0 Status: OK