Package: fcScan Version: 1.22.0 Command: /home/biocbuild/R/R/bin/R CMD INSTALL fcScan StartedAt: 2025-10-13 20:55:59 -0000 (Mon, 13 Oct 2025) EndedAt: 2025-10-13 20:56:53 -0000 (Mon, 13 Oct 2025) EllapsedTime: 54.1 seconds RetCode: 0 Status: OK